BEGIN:VCALENDAR
VERSION:2.0
PRODID:-//Volt Europa//Events//EN
CALSCALE:GREGORIAN
METHOD:PUBLISH
BEGIN:VEVENT
UID:eindhoven-raad-van-europa-council-of-europe-europa-moet-1765391400@volt
 nederland.org
DTSTAMP:20260423T061621Z
DTSTART;TZID=Europe/Amsterdam:20251210T193000
DTEND;TZID=Europe/Amsterdam:20251210T213000
SUMMARY:Eindhoven - Raad van Europa - Council of Europe – Europa moet!
DESCRIPTION:Na de nationale verkiezingen en vóór de gemeenteraadsverkiezi
 ngen is het bij Volt weer tijd voor Europa. De gastspreker van de december 
 meet-up is Harry Rogge\, geograaf en al lange tijd officieel afgevaardigde 
 bij de internationale conferentie van NGO’s bij de Raad van Europa. Hoe d
 at precies zit wordt duidelijk in een interactieve en boeiende presentatie 
 over het Europa dat je nog niet kende. Hartelijk welkom! Daarnaast geven we
  een terugblik op de General Assembly van Volt Europa\, een update v
LOCATION:Eindhoven\, Theaterzaal 't Rozenknopje - Hoogstraat 59\, 5615PA Ei
 ndhoven
URL:https://voltnederland.org/brabant/agenda/eindhoven-raad-van-europa-coun
 cil-of-europe-europa-moet
END:VEVENT
END:VCALENDAR
