BEGIN:VCALENDAR
VERSION:2.0
PRODID:-//Volt Europa//Events//EN
CALSCALE:GREGORIAN
METHOD:PUBLISH
BEGIN:VEVENT
UID:eindhoven-europese-weerbaarheid-reinier-van-lanschot-european-resilienc
 e-1772560800@voltnederland.org
DTSTAMP:20260423T023511Z
DTSTART;TZID=Europe/Amsterdam:20260303T190000
DTEND;TZID=Europe/Amsterdam:20260303T210000
SUMMARY:Eindhoven - Europese weerbaarheid - Reinier van Lanschot - European
  resilience
DESCRIPTION:Dinsdagavond 3 maart komen Reinier van Lanschot (MEP Volt Europ
 a) en Teun Janssen (Policy advisor Volt Europa) spreken over Europese weerb
 aarheid in een veranderende geopolitieke context. Hoe kan Europese weerbaar
 heid economisch\, strategisch en maatschappij op lokaal niveau vorm krijgen
 ? En hoe kan Eindhoven hierin het verschil maken?  Een groot aantal lokale 
 Volt Eindhoven kandidaten zal ook aanwezig zijn. Let op: we zitten bij deze
  extra meet-up bij Plug-in-city! Inloop vanaf 19 uur Start prog
LOCATION:Eindhoven\, Plug-in-city\, Leidingstraat 17A\, 5617AJ Eindhoven
URL:https://voltnederland.org/brabant/agenda/eindhoven-europese-weerbaarhei
 d-reinier-van-lanschot-european-resilience
END:VEVENT
END:VCALENDAR
