BEGIN:VCALENDAR
VERSION:2.0
PRODID:-//Volt Europa//Events//EN
CALSCALE:GREGORIAN
METHOD:PUBLISH
BEGIN:VEVENT
UID:eindejaarsborrel-2025-1766169000@voltnederland.org
DTSTAMP:20260424T030450Z
DTSTART;TZID=Europe/Amsterdam:20251219T193000
DTEND;TZID=Europe/Amsterdam:20251219T220000
SUMMARY:Eindejaarsborrel
DESCRIPTION:De ledenvergadering deze maand gaat niet door\, en vervangen we
  -traditiegetrouw- door een gezellige borrel! Superleuk om met jullie allem
 aal te kunnen proosten op het afgelopen jaar.  Vrijdag 19 december om 19:3
 0 bij Brasserie de Lobby in Roermond
LOCATION:Brasserie de Lobby\, Roermond
URL:https://voltnederland.org/limburg/agenda/eindejaarsborrel-2025
END:VEVENT
END:VCALENDAR
