BEGIN:VCALENDAR
VERSION:2.0
PRODID:-//Volt Europa//Events//EN
CALSCALE:GREGORIAN
METHOD:PUBLISH
BEGIN:VEVENT
UID:de-treinactie-europa-editie-1716703200@voltnederland.org
DTSTAMP:20260423T114225Z
DTSTART;TZID=Europe/Amsterdam:20240526T080000
DTEND;TZID=Europe/Amsterdam:20240526T220000
SUMMARY:De Treinactie Europa Editie
DESCRIPTION:Denk Europees\, doe lokaal.  Het Volt-motto komt erg mooi samen
  in het leukste campagne-event van deze verkiezingen: de Treinactie - Europ
 a Editie. Teams vanuit ons Limburg\, Noordrijn-Westfalen\, Belgisch-Limburg
  en Luik zullen vertrekken vanaf meerdere stations. We stappen op een aanta
 l plaatsen uit en (weer) in om samen ons geluid te laten horen en steden pa
 ars te kleuren. Het belooft een ontzettend leuke Europese dag te worden\, m
 et een feestelijke afsluiting op Plein 1992 in Maastricht. Schrijf
LOCATION:Het dichtstbijzijnde Europese station
URL:https://voltnederland.org/limburg/agenda/de-treinactie-europa-editie
END:VEVENT
END:VCALENDAR
