BEGIN:VCALENDAR
VERSION:2.0
PRODID:-//Volt Europa//Events//EN
CALSCALE:GREGORIAN
METHOD:PUBLISH
BEGIN:VEVENT
UID:de-schuldenindustrie-documentaire-debat-1724866200@voltnederland.org
DTSTAMP:20260423T144258Z
DTSTART;TZID=Europe/Amsterdam:20240828T193000
DTEND;TZID=Europe/Amsterdam:20240828T211500
SUMMARY:De Schuldenindustrie: Documentaire & Debat
DESCRIPTION:NL:  Kijk met ons mee naar een documentaire waarin hulpvragers 
 en hulpverleners een onthutsend beeld schetsen van de werking van de schuld
 enindustrie en laten zien waarom mensen soms steeds dieper wegzakken in fin
 anciële problemen. De kernvraag is: wat moet er veranderen? Wat is de rede
 n dat er ondanks een leger hulpverleners nog geen oplossing is voor dit vra
 agstuk? In het aansluitende debat (georganiseerd door Debatcentrum Sphinx) 
 zal op deze vragen verder worden ingegaan. Het is van groot bel
LOCATION:Lumière Maastricht
URL:https://voltnederland.org/limburg/agenda/de-schuldenindustrie-documenta
 ire-debat
END:VEVENT
END:VCALENDAR
