BEGIN:VCALENDAR
VERSION:2.0
PRODID:-//Volt Europa//Events//EN
CALSCALE:GREGORIAN
METHOD:PUBLISH
BEGIN:VEVENT
UID:campagneaftrap-met-onze-kandidaten-1758906000@voltnederland.org
DTSTAMP:20260423T114415Z
DTSTART;TZID=Europe/Amsterdam:20250926T190000
DTEND;TZID=Europe/Amsterdam:20250926T220000
SUMMARY:Dit is niet de fietstocht
DESCRIPTION:De nieuwsbrief van onze fractie in Maastricht heeft per abuis e
 en link naar deze pagina geplaatst\, die eigenlijk naar de pagina over de f
 ietstocht had moeten gaan. Klik hier om naar de juiste pagina te gaan. Our 
 Maastricht faction's newsletter mistakenly included a link to this page\, w
 hich should have been directed to the bike tour page. Click here to go to t
 he correct page.
LOCATION:Café de Hollande\, Markt Sittard
URL:https://voltnederland.org/limburg/agenda/campagneaftrap-met-onze-kandid
 aten
END:VEVENT
END:VCALENDAR
