BEGIN:VCALENDAR
VERSION:2.0
PRODID:-//Volt Europa//Events//EN
CALSCALE:GREGORIAN
METHOD:PUBLISH
BEGIN:VEVENT
UID:campagne-kick-off-noord-limburg-samen-met-duitsland-1757145600@voltnede
 rland.org
DTSTAMP:20260423T061449Z
DTSTART;TZID=Europe/Amsterdam:20250906T100000
DTEND;TZID=Europe/Amsterdam:20250906T170000
SUMMARY:Campagne kick-off Noord-Limburg samen met Duitsland
DESCRIPTION:Omdat Duitsland\, in de aanloop naar de Nederlandse Tweede Kame
 rverkiezingen\, gemeentelijke verkiezingen heeft\, zullen we samen met hen 
 onze campagne gaan aftrappen. We zullen in Viersen beginnen en dan samen ri
 chting Venlo gaan. Programma 10:00 Verzamelen op station Viersen en flyeren
  in de stad 12:00 Gezamenlijk met de trein naar Venlo 13:00 Lunch 14:00 Met
  zijn allen flyeren in Venlo 16:00 Afsluitende borrel We willen er de komen
 de weken een mooie campagne van maken dus sluit vooral gezellig a
LOCATION:Venlo\, Viersen
URL:https://voltnederland.org/agenda/campagne-kick-off-noord-limburg-samen-
 met-duitsland
END:VEVENT
END:VCALENDAR
