BEGIN:VCALENDAR
VERSION:2.0
PRODID:-//Volt Europa//Events//EN
CALSCALE:GREGORIAN
METHOD:PUBLISH
BEGIN:VEVENT
UID:campagne-bundestag-wahl-2025-1739714400@voltnederland.org
DTSTAMP:20260423T114247Z
DTSTART;TZID=Europe/Amsterdam:20250216T150000
DTEND;TZID=Europe/Amsterdam:20250216T170000
SUMMARY:Campagne Bundestag Wahl 2025
DESCRIPTION:Volt Aachen zal in het kader van de duitse verkiezingen een cam
 pagneactie houden op de markt. Hoe meer Volters hoe paarser de markt zal wo
 rden\, dus trek je beste Volt-outfit aan en doe gezellig mee! Volt Aachen w
 ill be holding a campaign event on the market in the context of the German 
 elections. The more Volters\, the more purple the market will become\, so p
 ut on your best Volt outfit and join in the fun!
LOCATION:Markt\, 52062 Aachen\, Germany
URL:https://voltnederland.org/limburg/agenda/campagne-bundestag-wahl-2025
END:VEVENT
END:VCALENDAR
