BEGIN:VCALENDAR
VERSION:2.0
PRODID:-//Volt Europa//Events//EN
CALSCALE:GREGORIAN
METHOD:PUBLISH
BEGIN:VEVENT
UID:borrel-venlo-20251003-1759512600@voltnederland.org
DTSTAMP:20260423T102218Z
DTSTART;TZID=Europe/Amsterdam:20251003T193000
DTEND;TZID=Europe/Amsterdam:20251003T220000
SUMMARY:Borrel Venlo
DESCRIPTION:Het is weer tijd voor een gezellig samenkomen. Vrijdag 3 oktobe
 r om 19:30 bij de Klep! Om even bij te kleppen zeg maar. Zegt het Volt!
LOCATION:Café de Klep\, Venlo
URL:https://voltnederland.org/limburg/agenda/borrel-venlo-20251003
END:VEVENT
END:VCALENDAR
