BEGIN:VCALENDAR
VERSION:2.0
PRODID:-//Volt Europa//Events//EN
CALSCALE:GREGORIAN
METHOD:PUBLISH
BEGIN:VEVENT
UID:borrel-venlo-202506-1749058200@voltnederland.org
DTSTAMP:20260423T144304Z
DTSTART;TZID=Europe/Amsterdam:20250604T193000
DTEND;TZID=Europe/Amsterdam:20250604T210000
SUMMARY:Borrel Venlo
DESCRIPTION:Leden\, niet-leden\, vrienden en gezelligheidsdieren — iedere
 en is welkom! Kom langs voor een gezellige avond vol drankjes\, goede gespr
 ekken en nieuwe gezichten.
LOCATION:Café de Klep\, Venlo
URL:https://voltnederland.org/limburg/agenda/borrel-venlo-202506
END:VEVENT
END:VCALENDAR
