BEGIN:VCALENDAR
VERSION:2.0
PRODID:-//Volt Europa//Events//EN
CALSCALE:GREGORIAN
METHOD:PUBLISH
BEGIN:VEVENT
UID:borrel-als-vervanging-voor-de-maandelijkse-online-ledenvergadering-1734
 114600@voltnederland.org
DTSTAMP:20260423T114549Z
DTSTART;TZID=Europe/Amsterdam:20241213T193000
DTEND;TZID=Europe/Amsterdam:20241213T220000
SUMMARY:Borrel als vervanging voor de maandelijkse online ledenvergadering
DESCRIPTION:Op deze borrel vieren we een prachtig jaar voor de groei van Vo
 lt Limburg als afdeling! Iedereen is uitgenodigd om samen te komen proosten
 . We zien ernaar uit!
LOCATION:Café Dwaesj\, Sittard
URL:https://voltnederland.org/limburg/agenda/borrel-als-vervanging-voor-de-
 maandelijkse-online-ledenvergadering
END:VEVENT
END:VCALENDAR
