BEGIN:VCALENDAR
VERSION:2.0
PRODID:-//Volt Europa//Events//EN
CALSCALE:GREGORIAN
METHOD:PUBLISH
BEGIN:VEVENT
UID:boekpresentatie-maastricht-10-uitdagingen-voor-onze-toekomst-1733664600
 @voltnederland.org
DTSTAMP:20260423T114543Z
DTSTART;TZID=Europe/Amsterdam:20241208T143000
DTEND;TZID=Europe/Amsterdam:20241208T160000
SUMMARY:Boekpresentatie "Maastricht: 10 uitdagingen voor onze toekomst"
DESCRIPTION:Boekpresentatie "Maastricht: 10 uitdagingen voor onze toekomst"
  van onze Jules\, Romy en Mart 💜 https://www.voltmaastricht.nl/#events
LOCATION:IPEMA (Torenzaal)\, Maastricht
URL:https://voltnederland.org/limburg/agenda/boekpresentatie-maastricht-10-
 uitdagingen-voor-onze-toekomst
END:VEVENT
END:VCALENDAR
