BEGIN:VCALENDAR
VERSION:2.0
PRODID:-//Volt Europa//Events//EN
CALSCALE:GREGORIAN
METHOD:PUBLISH
BEGIN:VEVENT
UID:bijeenkomst-volt-parkstad-1710180000@voltnederland.org
DTSTAMP:20260423T102220Z
DTSTART;TZID=Europe/Amsterdam:20240311T190000
DTEND;TZID=Europe/Amsterdam:20240311T220000
SUMMARY:Bijeenkomst Volt Parkstad
DESCRIPTION:Een gezellige samenkomst van de Parkstadse Volters in de Quatro
  Bistro in Heerlen. Kom ook langs en ontmoet andere Volters en geïnteresse
 erden. Niet-leden zijn ook van harte welkom om aan te sluiten 💜
LOCATION:Quatro Bistro\, Heerlen
URL:https://voltnederland.org/limburg/agenda/bijeenkomst-volt-parkstad
END:VEVENT
END:VCALENDAR
