BEGIN:VCALENDAR
VERSION:2.0
PRODID:-//Volt Europa//Events//EN
CALSCALE:GREGORIAN
METHOD:PUBLISH
BEGIN:VEVENT
UID:bijeenkomst-volt-parkstad-2025-06-1750266000@voltnederland.org
DTSTAMP:20260423T114135Z
DTSTART;TZID=Europe/Amsterdam:20250618T190000
DTEND;TZID=Europe/Amsterdam:20250618T220000
SUMMARY:Bijeenkomst Volt Parkstad
DESCRIPTION:NL:  Een gezellige samenkomst van de Parkstadse Volters in Heer
 len. Kom ook langs en ontmoet andere Volters en geÃ¯nteresseerden in een in
 formele setting. Voorbereiding zijn niet nodig\, je hoeft alleen een mening
  klaar te hebben! Niet-leden zijn ook van harte welkom om aan te sluiten\, 
 sterker nog\, we willen graag iedereen aansporen om te kijken of ze een geÃ
 ¯nteresseerde mee kunnen nemen ðŸ’œ EN:  A pleasant gathering of the Parkst
 ad Volters in Heerlen. Come too and meet other Volters in an informal 
LOCATION:De Vrienden\, Pancratiusplein 46\, Heerlen
URL:https://voltnederland.org/limburg/agenda/bijeenkomst-volt-parkstad-2025
 -06
END:VEVENT
END:VCALENDAR
