BEGIN:VCALENDAR
VERSION:2.0
PRODID:-//Volt Europa//Events//EN
CALSCALE:GREGORIAN
METHOD:PUBLISH
BEGIN:VEVENT
UID:bijeenkomst-volt-parkstad-202409-1726507800@voltnederland.org
DTSTAMP:20260423T114107Z
DTSTART;TZID=Europe/Amsterdam:20240916T193000
DTEND;TZID=Europe/Amsterdam:20240916T220000
SUMMARY:Bijeenkomst Volt Parkstad
DESCRIPTION:NL:  Een gezellige samenkomst van de Parkstadse Volters bij Caf
 é Pelt in Heerlen. Kom ook langs en ontmoet andere Volters en geïnteresse
 erden in een informele setting. Voorbereiding zijn niet nodig\, je hoeft al
 leen een mening klaar te hebben! Niet-leden zijn ook van harte welkom om aa
 n te sluiten\, sterker nog\, we willen graag iedereen aansporen om te kijke
 n of ze een geïnteresseerde mee kunnen nemen 💜 EN:  A pleasant gatherin
 g of the Parkstad Volters at Café Pelt in Heerlen. Come too and meet ot
LOCATION:Café Pelt\, Heerlen
URL:https://voltnederland.org/limburg/agenda/bijeenkomst-volt-parkstad-2024
 09
END:VEVENT
END:VCALENDAR
