BEGIN:VCALENDAR
VERSION:2.0
PRODID:-//Volt Europa//Events//EN
CALSCALE:GREGORIAN
METHOD:PUBLISH
BEGIN:VEVENT
UID:bijeenkomst-volt-parkstad-202405-1714671000@voltnederland.org
DTSTAMP:20260423T114106Z
DTSTART;TZID=Europe/Amsterdam:20240502T193000
DTEND;TZID=Europe/Amsterdam:20240502T220000
SUMMARY:Bijeenkomst Volt Parkstad
DESCRIPTION:Een gezellige samenkomst van de Parkstadse Volters in de Quatro
  Bistro in Heerlen. Kom ook langs en ontmoet andere Volters en geïnteresse
 erden tijdens een laagdrempelig overleg waarbij een aantal thema's voorbij 
 zullen komen. Voorbereiding zijn niet nodig\, je hoeft alleen een mening kl
 aar te hebben! Niet-leden zijn ook van harte welkom om aan te sluiten\, ste
 rker nog\, we willen graag iedereen aansporen om te kijken of ze een geïnt
 eresseerde mee kunnen nemen 💜
LOCATION:Quatro Bistro\, Heerlen
URL:https://voltnederland.org/limburg/agenda/bijeenkomst-volt-parkstad-2024
 05
END:VEVENT
END:VCALENDAR
