BEGIN:VCALENDAR
VERSION:2.0
PRODID:-//Volt Europa//Events//EN
CALSCALE:GREGORIAN
METHOD:PUBLISH
BEGIN:VEVENT
UID:bijeenkomst-sittard-geleen-202502-1738780200@voltnederland.org
DTSTAMP:20260423T114247Z
DTSTART;TZID=Europe/Amsterdam:20250205T193000
DTEND;TZID=Europe/Amsterdam:20250205T220000
SUMMARY:Bijeenkomst Sittard-Geleen
DESCRIPTION:Elke eerste woensdag v.d. maand houden we een bijeenkomst waarb
 ij we praten over laatste ontwikkelingen in de gemeente en een inhoudelijk 
 onderwerp. Every first Wednesday of the month we hold a meeting where we ta
 lk about the latest developments in the municipality and a substantive topi
 c. Will you join us? (Note that this event has as main language Dutch)
LOCATION:Tapperie de Gats\, Markt 20\, Sittard
URL:https://voltnederland.org/limburg/agenda/bijeenkomst-sittard-geleen-202
 502
END:VEVENT
END:VCALENDAR
