BEGIN:VCALENDAR
VERSION:2.0
PRODID:-//Volt Europa//Events//EN
CALSCALE:GREGORIAN
METHOD:PUBLISH
BEGIN:VEVENT
UID:bijeenkomst-sittard-geleen-202411-1730917800@voltnederland.org
DTSTAMP:20260423T114253Z
DTSTART;TZID=Europe/Amsterdam:20241106T193000
DTEND;TZID=Europe/Amsterdam:20241106T220000
SUMMARY:Bijeenkomst Sittard-Geleen
DESCRIPTION:Elke eerste woensdag v.d. maand houden we een bijeenkomst waarb
 ij we praten over laatste ontwikkelingen in de gemeente en een inhoudelijk 
 onderwerp.
LOCATION:Tapperie de Gats\, Markt 20\, Sittard
URL:https://voltnederland.org/limburg/agenda/bijeenkomst-sittard-geleen-202
 411
END:VEVENT
END:VCALENDAR
