BEGIN:VCALENDAR
VERSION:2.0
PRODID:-//Volt Europa//Events//EN
CALSCALE:GREGORIAN
METHOD:PUBLISH
BEGIN:VEVENT
UID:bezoek-van-onze-europarlementarier-anna-strolenberg-1749814200@voltnede
 rland.org
DTSTAMP:20260423T114442Z
DTSTART;TZID=Europe/Amsterdam:20250613T133000
DTEND;TZID=Europe/Amsterdam:20250613T163000
SUMMARY:Bezoek van onze Europarlementariër: Anna Strolenberg!!!
DESCRIPTION:Onze Euro-Parlementariër Anna Strolenberg komt naar Limburg vo
 or een bezoek aan Mosae Meat. Wij hebben de eer om naderhand met haar in ge
 sprek te gaan over haar ideeën voor de eiwittransitie en haar ervaringen i
 n het Europese Parlement. Kom naar de bovenzaal van Café Forum en ga in ge
 sprek!
LOCATION:Café Forum\, Maastricht
URL:https://voltnederland.org/limburg/agenda/bezoek-van-onze-europarlementa
 rier-anna-strolenberg
END:VEVENT
END:VCALENDAR
