BEGIN:VCALENDAR
VERSION:2.0
PRODID:-//Volt Europa//Events//EN
CALSCALE:GREGORIAN
METHOD:PUBLISH
BEGIN:VEVENT
UID:bezoek-het-europees-parlement-1745301600@voltnederland.org
DTSTAMP:20260423T102218Z
DTSTART;TZID=Europe/Amsterdam:20250422T080000
DTEND;TZID=Europe/Amsterdam:20250422T210000
SUMMARY:Bezoek het Europees Parlement
DESCRIPTION:Jullie hebben je keihard ingezet voor de Europese verkiezingenâ
 €”of je nu een poster voor je raam hebt gehangen\, een middag hebt geflyerd
 \, of heel Limburg hebt volgeplakt met posters. Iedereen heeft bijgedragen 
 op zijn of haar manier\, en dat heeft resultaat opgeleverd:  5 zetels in he
 t Europees Parlement! Nu is het tijd om te zien wat we samen hebben bereikt
 . Ga mee op bezoek naar het Europees Parlement en ontmoet onze Europarlemen
 tariÃ«r  Anna Strolenberg . Een unieke kans om van dichtbij te zien 
LOCATION:Brussel
URL:https://voltnederland.org/limburg/agenda/bezoek-het-europees-parlement
END:VEVENT
END:VCALENDAR
