BEGIN:VCALENDAR
VERSION:2.0
PRODID:-//Volt Europa//Events//EN
CALSCALE:GREGORIAN
METHOD:PUBLISH
BEGIN:VEVENT
UID:belangrijk-extra-ledenvergadering-over-gemeenteraadsverkiezingen-in-maa
 stricht-1750179600@voltnederland.org
DTSTAMP:20260423T114629Z
DTSTART;TZID=Europe/Amsterdam:20250617T190000
DTEND;TZID=Europe/Amsterdam:20250617T200000
SUMMARY:BELANGRIJK! Extra ledenvergadering over gemeenteraadsverkiezingen i
 n Maastricht
DESCRIPTION:We willen dat Volt in maart 2026 opnieuw in de gemeenteraad van
  Maastricht verkozen wordt. De voorbereidingen zijn al in volle gang. Zo wo
 rdt het verkiezingsprogramma vormgegeven\, de vacature voor kandidaten bijn
 a gepubliceerd (16 juni) en wordt er ook al nagedacht over de campagne. We 
 delen graag de status van alle ontwikkelingen. We vragen informatie en bijd
 ragen van alle leden van Volt Limburg waarbij we op de leden van Volt Maast
 richt natuurlijk een extra beroep doen!
LOCATION:Online
URL:https://voltnederland.org/limburg/agenda/belangrijk-extra-ledenvergader
 ing-over-gemeenteraadsverkiezingen-in-maastricht
END:VEVENT
END:VCALENDAR
