BEGIN:VCALENDAR
VERSION:2.0
PRODID:-//Volt Europa//Events//EN
CALSCALE:GREGORIAN
METHOD:PUBLISH
BEGIN:VEVENT
UID:12x-de-grens-over-fietsen-in-20-km-1759658400@voltnederland.org
DTSTAMP:20260423T120144Z
DTSTART;TZID=Europe/Amsterdam:20251005T120000
DTEND;TZID=Europe/Amsterdam:20251005T170000
SUMMARY:Samen trappen we de grenzen weg!
DESCRIPTION:Op zondag 5 oktober 2025 stappen we op de fiets voor een bijzon
 dere uitdaging: een tocht waarbij we maar liefst 12 keer de grens oversteke
 n! Geen gewone fietstocht\, maar een zichtbare campagne-actie voor de Tweed
 e Kamerverkiezingen. Met ons mee op de fiets: de Limburgse Volt-kandidate J
 efte Erens (plek 20). We fietsen zo’n 20 km van Eygelshoven naar Lemiers\
 , steken 12 keer de grens over\, gaan het gesprek aan met mensen die we ond
 erweg ontmoeten en laten zien waar Volt voor staat: een sterk en ve
LOCATION:Station Eygelshoven Markt -> Lemiers station
URL:https://voltnederland.org/limburg/agenda/12x-de-grens-over-fietsen-in-2
 0-km
END:VEVENT
END:VCALENDAR
