BEGIN:VCALENDAR
VERSION:2.0
PRODID:-//Volt Europa//Events//EN
CALSCALE:GREGORIAN
METHOD:PUBLISH
BEGIN:VEVENT
UID:winschoten-10-x-10-km-estafette-loop-relay-run-1757748600@voltnederland
 .org
DTSTAMP:20260423T114106Z
DTSTART;TZID=Europe/Amsterdam:20250913T093000
DTEND;TZID=Europe/Amsterdam:20250913T210000
SUMMARY:Winschoten: 10 x 10 km Estafette-loop - Relay run
DESCRIPTION:De Volt Europa runners gaan een estafette run van 10 x 10 km lo
 pen in Winschoten\, Groningen! Na hardloopwedstrijden in Brussel\, Darmstad
 t\, Parijs\, Den Haag\, Bayreuth\, Luxemburg en Eindhoven is het nu de beur
 t aan Noord-Nederland.  Om het een echt Europees team te maken\, zijn er be
 halve hardlopers uit Nederland ook renners uit Duitsland en België aangesl
 oten. Kom je ons aanmoedigen? We zijn er de hele dag\, verwachten rond 19 u
 ur (?) te finishen. Wil je nog meelopen? Laat het ons zo spoedig mogeli
LOCATION:Winschoten: Sporthal\, Meester D.U. Stikkerlaan 6\, 9671 BZ Winsch
 oten
URL:https://voltnederland.org/agenda/winschoten-10-x-10-km-estafette-loop-r
 elay-run
END:VEVENT
END:VCALENDAR
