BEGIN:VCALENDAR
VERSION:2.0
PRODID:-//Volt Europa//Events//EN
CALSCALE:GREGORIAN
METHOD:PUBLISH
BEGIN:VEVENT
UID:vrijmibo-24-4-1777050000@voltnederland.org
DTSTAMP:20260421T094434Z
DTSTART;TZID=Europe/Amsterdam:20260424T190000
DTEND;TZID=Europe/Amsterdam:20260424T210000
SUMMARY:Volt Groningen VrijMiBo
DESCRIPTION:De vrijdagmiddagborrel Elke twee weken komen Volters bij elkaar
 \, laagdrempelig kennis met elkaar maken\, ongedwongen de week doorspreken 
 en ideeën uitwisselen. Ook als je nog niet lid bent zien we je graag!
LOCATION:Pacific\, Oosterstraat 65\, 9711 NS Groningen
URL:https://voltnederland.org/groningen/agenda/vrijmibo-24-4
END:VEVENT
END:VCALENDAR
