BEGIN:VCALENDAR
VERSION:2.0
PRODID:-//Volt Europa//Events//EN
CALSCALE:GREGORIAN
METHOD:PUBLISH
BEGIN:VEVENT
UID:vragenuur-sollicitatie-kandidaten-grv-groningen-1752076800@voltnederlan
 d.org
DTSTAMP:20260423T115153Z
DTSTART;TZID=Europe/Amsterdam:20250709T180000
DTEND;TZID=Europe/Amsterdam:20250709T190000
SUMMARY:Vragenuurtje solliciteren voor de gemeenteraadslijst Groningen (Onl
 ine)
DESCRIPTION:ENGLISH BELOW Wil je solliciteren voor de gemeenteraadslijst? O
 f je je brief al helemaal klaar hebt en nog een vraag hebt\, of dat je nog 
 twijfelt of je er überhaupt aan wil beginnen? Wil je meer weten over de ti
 jdsinvestering als raadslid\, en of het mogelijk is om als lijstduwer mee t
 e doen? Of heb je hulp nodig met het opnemen van een video en je kans op he
 t congres gemist? Kom naar dit (online) vragenuurtje!  Neem deel via:  meet
 .google.com/ycb-hfir-ync Heb je al eerder een vraag? Stuur die da
LOCATION:Online
URL:https://voltnederland.org/groningen/agenda/vragenuur-sollicitatie-kandi
 daten-grv-groningen
END:VEVENT
END:VCALENDAR
