BEGIN:VCALENDAR
VERSION:2.0
PRODID:-//Volt Europa//Events//EN
CALSCALE:GREGORIAN
METHOD:PUBLISH
BEGIN:VEVENT
UID:vragenuur-sollicitatie-kandidaten-grv-groningen-1-1752051600@voltnederl
 and.org
DTSTAMP:20260423T114549Z
DTSTART;TZID=Europe/Amsterdam:20250709T110000
DTEND;TZID=Europe/Amsterdam:20250709T120000
SUMMARY:Vragenuurtje solliciteren voor de gemeenteraadslijst Groningen (Fys
 iek)
DESCRIPTION:ENGLISH BELOW Wil je solliciteren voor de gemeenteraadslijst? O
 f je je brief al helemaal klaar hebt en nog een vraag hebt\, of dat je nog 
 twijfelt of je er überhaupt aan wil beginnen? Wil je meer weten over de ti
 jdsinvestering als raadslid\, en of het mogelijk is om als lijstduwer mee t
 e doen? Of heb je hulp nodig met het opnemen van een video en je kans op he
 t congres gemist? Kom naar dit vragenuurtje!  Heb je al eerder een vraag? S
 tuur die dan aan groningen@voltnederland.org. ENGLISH Do you want
LOCATION:Grand Café Time-Out\, Poelestraat 34-36\, 9712 KB Groningen
URL:https://voltnederland.org/groningen/agenda/vragenuur-sollicitatie-kandi
 daten-grv-groningen-1
END:VEVENT
END:VCALENDAR
