BEGIN:VCALENDAR
VERSION:2.0
PRODID:-//Volt Europa//Events//EN
CALSCALE:GREGORIAN
METHOD:PUBLISH
BEGIN:VEVENT
UID:volt-noord-nederland-ep-verkiezingsborrel-1717691400@voltnederland.org
DTSTAMP:20260423T114414Z
DTSTART;TZID=Europe/Amsterdam:20240606T183000
DTEND;TZID=Europe/Amsterdam:20240606T235900
SUMMARY:Volt Noord Nederland - EP&nbsp\;Verkiezingsborrel
DESCRIPTION:Na wat niets anders kan zijn dan een zinderende en gedurfde cam
 pagneperiode 😉💜\, sluiten we gezamenlijk de EP campagne af in Leeuwar
 den waar we vanaf 18.30 genieten van een hapje en een drankje in de Whiskey
 kamer van In de Brouwerij. ( https://maps.app.goo.gl/eg1XCTRXZ4fEJ57w6?g_st
 =ic )  Uiteraard hopen we even na 21.00 een fantastische (voorlopige) uitsl
 ag te kunnen vieren! Durf jij er bij te zijn?
LOCATION:Zaailand 92A\, 8911 BN Leeuwarden
URL:https://voltnederland.org/groningen/agenda/volt-noord-nederland-ep-verk
 iezingsborrel
END:VEVENT
END:VCALENDAR
