BEGIN:VCALENDAR
VERSION:2.0
PRODID:-//Volt Europa//Events//EN
CALSCALE:GREGORIAN
METHOD:PUBLISH
BEGIN:VEVENT
UID:volt-het-hogeland-vrimibo-9-1767981600@voltnederland.org
DTSTAMP:20260423T211707Z
DTSTART;TZID=Europe/Amsterdam:20260109T190000
DTEND;TZID=Europe/Amsterdam:20260109T230000
SUMMARY:Volt het Hogeland VriMiBo - AFGELAST door winterse weeromstandighed
 en
DESCRIPTION:Door winterse weeromstandigheden gaat de vrijdag avond borrel i
 n Het Hogeland niet door. De borrel van 23 januari gaat wel door. Zie event
 s agenda. De vrijdagmiddagborrel Elke twee weken komen Volters bij elkaar\,
  laagdrempelig kennis met elkaar maken\, ongedwongen de week doorspreken en
  ideeën uitwisselen. Ook als je nog niet lid bent zien we je graag!
LOCATION:Hoofdstraat W 5a\, 9951 AA Winsum\, Nederland
URL:https://voltnederland.org/groningen/agenda/volt-het-hogeland-vrimibo-9
END:VEVENT
END:VCALENDAR
