BEGIN:VCALENDAR
VERSION:2.0
PRODID:-//Volt Europa//Events//EN
CALSCALE:GREGORIAN
METHOD:PUBLISH
BEGIN:VEVENT
UID:volt-het-hogeland-vrimibo-23-1769191200@voltnederland.org
DTSTAMP:20260424T025856Z
DTSTART;TZID=Europe/Amsterdam:20260123T190000
DTEND;TZID=Europe/Amsterdam:20260123T230000
SUMMARY:Volt het Hogeland VriMiBo
DESCRIPTION:De vrijdagmiddagborrel Elke twee weken komen Volters bij elkaar
 \, laagdrempelig kennis met elkaar maken\, ongedwongen de week doorspreken 
 en ideeën uitwisselen. Ook als je nog niet lid bent zien we je graag!
LOCATION:Hoofdstraat W 5a\, 9951 AA Winsum\, Nederland
URL:https://voltnederland.org/groningen/agenda/volt-het-hogeland-vrimibo-23
END:VEVENT
END:VCALENDAR
