BEGIN:VCALENDAR
VERSION:2.0
PRODID:-//Volt Europa//Events//EN
CALSCALE:GREGORIAN
METHOD:PUBLISH
BEGIN:VEVENT
UID:verjaardag-volt-29-maart-1711728000@voltnederland.org
DTSTAMP:20260423T143214Z
DTSTART;TZID=Europe/Amsterdam:20240329T170000
DTEND;TZID=Europe/Amsterdam:20240329T220000
SUMMARY:Verjaardag Volt 29 maart
DESCRIPTION:Deze vrijdagmiddagborrel vieren we speciaal de verjaardag van V
 olt. Samen met andere lokale leden. En natuurlijk de (lokale) politieke geb
 eurtenissen bespreken\, onder het genot van een drankje en eventueel een ha
 pje. Geïnteresseerde niet-leden zijn uiteraard ook welkom!
LOCATION:Pacific Pub\, Oosterstraat 65\, Groningen
URL:https://voltnederland.org/groningen/agenda/verjaardag-volt-29-maart
END:VEVENT
END:VCALENDAR
