BEGIN:VCALENDAR
VERSION:2.0
PRODID:-//Volt Europa//Events//EN
CALSCALE:GREGORIAN
METHOD:PUBLISH
BEGIN:VEVENT
UID:stemwijzer-workshop-grv26-1768320000@voltnederland.org
DTSTAMP:20260424T025245Z
DTSTART;TZID=Europe/Amsterdam:20260113T170000
DTEND;TZID=Europe/Amsterdam:20260113T200000
SUMMARY:Stemwijzer workshop GRV26
DESCRIPTION:Beste mede-Volter\, Graag nodigen we je uit om deel te nemen aa
 n een  workshop  voor het innemen van de standpunten en bijbehorende toelic
 htingen voor de StemWijzer in aanloop naar de gemeenteraadsverkiezingen voo
 r Groningen in 2026. Wil je meedoen? Vul dan kort  dit formulier  in\, zo
 dat we weten dat je aanwezig bent. Lees hieronder verder voor meer details.
   Datum\, tijd en locatie De workshop vindt plaats op  13 januari 2026 \, 
 van  17:00 tot 20:00 . De locatie is Munnekeholm 4\, 9711 JA Groningen
LOCATION:Munnekeholm 4\, Groningen
URL:https://voltnederland.org/groningen/agenda/stemwijzer-workshop-grv26
END:VEVENT
END:VCALENDAR
