BEGIN:VCALENDAR
VERSION:2.0
PRODID:-//Volt Europa//Events//EN
CALSCALE:GREGORIAN
METHOD:PUBLISH
BEGIN:VEVENT
UID:pridewalk25-1750498200@voltnederland.org
DTSTAMP:20260423T113839Z
DTSTART;TZID=Europe/Amsterdam:20250621T113000
DTEND;TZID=Europe/Amsterdam:20250621T140000
SUMMARY:Pridewalk
DESCRIPTION:Op zaterdag 21 juni vieren we roze zaterdag en ook dit jaar lop
 en we met Volt mee met de pridewalk in Groningen 💜🏳️‍🌈 De opto
 cht door de stad begint om 12:00 uur op de Ossenmarkt en zal zo’n twee uu
 r duren om weer op de Ossenmarkt te eindigen. Als Volt zullen wij een halfu
 urtje eerder\, om 11:30 uur\, daar alvast verzamelen. Om als Volt een kleur
 ige stempel op de optocht te drukken is het leuk als zo veel mogelijk mense
 n Volt vlaggen\, vaandels of kledij meenemen Iedereen is van harte welkom o
 m met
LOCATION:Ossenmarkt\, Groningen
URL:https://voltnederland.org/groningen/agenda/pridewalk25
END:VEVENT
END:VCALENDAR
