BEGIN:VCALENDAR
VERSION:2.0
PRODID:-//Volt Europa//Events//EN
CALSCALE:GREGORIAN
METHOD:PUBLISH
BEGIN:VEVENT
UID:potluck-picknick-1722686400@voltnederland.org
DTSTAMP:20260423T142241Z
DTSTART;TZID=Europe/Amsterdam:20240803T140000
DTEND;TZID=Europe/Amsterdam:20240803T160000
SUMMARY:Potluck Picknick
DESCRIPTION:We gaan samen lunchen in het park.  Doe je ook mee? Leden en vr
 ienden van Volt Groningen zijn van harte uitgenodigd. Een potluck is een on
 tspannen manier van samen eten. Een gezamenlijke maaltijd of picknick waarb
 ij elke deelnemer een - vaak zelf bereid - gerecht meebrengt en deelt met d
 e andere aanwezige gasten. Bijvoorbeeld in 4 kwart-porties. (Als iedereen v
 oor 4 mensen hele porties mee zou nemen blijft er 3x te veel over) Zo ontst
 aat er een heel gevarieerd buffet met allerhande lekkere dinge
LOCATION:Noorderplantsoen
URL:https://voltnederland.org/groningen/agenda/potluck-picknick
END:VEVENT
END:VCALENDAR
