BEGIN:VCALENDAR
VERSION:2.0
PRODID:-//Volt Europa//Events//EN
CALSCALE:GREGORIAN
METHOD:PUBLISH
BEGIN:VEVENT
UID:politiek-cafe-obesitas-1742220000@voltnederland.org
DTSTAMP:20260423T143453Z
DTSTART;TZID=Europe/Amsterdam:20250317T150000
DTEND;TZID=Europe/Amsterdam:20250317T170000
SUMMARY:Politiek café OBESITAS en de maatschappij\, wat kan de gemeente be
 tekenen voor individu en samenleving?
DESCRIPTION:Obesitas & de maatschappij Wat kunnen gemeenten doen om individ
 uen te ondersteunen bij het maken van gezonde keuzes en daarmee zorg te dra
 gen voor een gezondere samenleving? (Ernstig) overgewicht is een groeiend p
 robleem dat ondanks het preventieakkoord van de Rijksoverheid nog altijd ni
 et tot stilstand is gebracht\, laat staan dat sprake is van een afname van 
 het aantal mensen met overgewicht. Overgewicht staat voor zoveel meer dan a
 lleen zwaarlijvigheid. Het gaat gepaard met diverse gezondheids
LOCATION:Corps de Garde\, Oude Boteringestraat 74\, Groningen
URL:https://voltnederland.org/groningen/agenda/politiek-cafe-obesitas
END:VEVENT
END:VCALENDAR
