BEGIN:VCALENDAR
VERSION:2.0
PRODID:-//Volt Europa//Events//EN
CALSCALE:GREGORIAN
METHOD:PUBLISH
BEGIN:VEVENT
UID:politiek-cafe-de-net-niet-elite-1758907800@voltnederland.org
DTSTAMP:20260423T114225Z
DTSTART;TZID=Europe/Amsterdam:20250926T193000
DTEND;TZID=Europe/Amsterdam:20250926T213000
SUMMARY:Politiek Café: De net-niet elite
DESCRIPTION:De net-niet elite Hoogopgeleiden tussen macht en meritocratie (
 2024) gaat over sociale klasse\, een onderwerp waar we het in Nederland nie
 t zo vaak over hebben. We hebben het wel regelmatig over ‘de elite’. Di
 e elite zou dan bestaan uit een groep machtige\, hoogopgeleide\, havermelkd
 rinkende randstedelingen. Maar is dat ook echt de elite? Of worden zij voor
 al zo gezien door anderen of zichzelf? In De net-niet elite houdt Van Rijsb
 ergen hoogopgeleiden een kritische spiegel voor\, maar relativeert ook
LOCATION:Hotel Corps de Garde\, Oude Boteringestraat 74\, Groningen
URL:https://voltnederland.org/groningen/agenda/politiek-cafe-de-net-niet-el
 ite
END:VEVENT
END:VCALENDAR
