BEGIN:VCALENDAR
VERSION:2.0
PRODID:-//Volt Europa//Events//EN
CALSCALE:GREGORIAN
METHOD:PUBLISH
BEGIN:VEVENT
UID:ontmoet-volt-28-feb-26-1-1772881200@voltnederland.org
DTSTAMP:20260424T030913Z
DTSTART;TZID=Europe/Amsterdam:20260307T120000
DTEND;TZID=Europe/Amsterdam:20260307T150000
SUMMARY:Ontmoet Volt: 7 maart
DESCRIPTION:18 maart doet Volt mee aan de verkiezingen in Groningen.  Deze 
 middag staan we in de binnenstad. Kom onderweg naar werk\, naar je studie\,
  of naar de stad even kletsen\, stel je vraag. En vind je het nou heel geze
 llig\, help ons dan om om de campagne nog vrolijker te maken door mee te he
 lpen!
LOCATION:Binnenstad\, Groningen
URL:https://voltnederland.org/groningen/agenda/ontmoet-volt-28-feb-26-1
END:VEVENT
END:VCALENDAR
