BEGIN:VCALENDAR
VERSION:2.0
PRODID:-//Volt Europa//Events//EN
CALSCALE:GREGORIAN
METHOD:PUBLISH
BEGIN:VEVENT
UID:ontmoet-volt-2-maa-26-1772433000@voltnederland.org
DTSTAMP:20260423T102048Z
DTSTART;TZID=Europe/Amsterdam:20260302T073000
DTEND;TZID=Europe/Amsterdam:20260302T094500
SUMMARY:Ontmoet Volt: 2 maart
DESCRIPTION:18 maart doet Volt mee aan de verkiezingen in Groningen.  Deze 
 ochtend staan we bij de HN Werkmanbrug voor het Groninger museum. Kom op we
 g naar werk\, naar je studie\, of naar de stad even kletsen\, stel je vraag
 . En vind je het nou heel gezellig\, help ons dan om om de campagne nog vro
 lijker te maken door mee te helpen!
LOCATION:HN Werkmanbrug\, Groningen
URL:https://voltnederland.org/groningen/agenda/ontmoet-volt-2-maa-26
END:VEVENT
END:VCALENDAR
