BEGIN:VCALENDAR
VERSION:2.0
PRODID:-//Volt Europa//Events//EN
CALSCALE:GREGORIAN
METHOD:PUBLISH
BEGIN:VEVENT
UID:ontmoet-volt-17-maa-26-ub-1773733500@voltnederland.org
DTSTAMP:20260424T030009Z
DTSTART;TZID=Europe/Amsterdam:20260317T084500
DTEND;TZID=Europe/Amsterdam:20260317T110000
SUMMARY:Ontmoet Volt: 17 maart | UB
DESCRIPTION:18 maart doet Volt mee aan de verkiezingen in Groningen.  Deze 
 ochtend staan we bij de Universiteitsbibliotheek van de Rijksuniversiteit G
 roningen. Kom op weg naar werk\, naar je studie\, of naar de stad even klet
 sen\, stel je vraag. En vind je het nou heel gezellig\, help ons dan om om 
 de campagne nog vrolijker te maken door mee te helpen!
LOCATION:Universiteitsbibliotheek\, Groningen
URL:https://voltnederland.org/groningen/agenda/ontmoet-volt-17-maa-26-ub
END:VEVENT
END:VCALENDAR
