BEGIN:VCALENDAR
VERSION:2.0
PRODID:-//Volt Europa//Events//EN
CALSCALE:GREGORIAN
METHOD:PUBLISH
BEGIN:VEVENT
UID:ontmoet-volt-17-maa-26-ten-boer-1773748800@voltnederland.org
DTSTAMP:20260424T030719Z
DTSTART;TZID=Europe/Amsterdam:20260317T130000
DTEND;TZID=Europe/Amsterdam:20260317T160000
SUMMARY:Ontmoet Volt: 17 maart | Ten Boer
DESCRIPTION:18 maart doet Volt mee aan de verkiezingen in Groningen.  Deze 
 ochtend staan we op de markt van Ten Boer. Kom op weg naar werk\, naar je s
 tudie\, of naar de stad even kletsen\, stel je vraag. En vind je het nou he
 el gezellig\, help ons dan om om de campagne nog vrolijker te maken door me
 e te helpen!
LOCATION:Markt\, Ten Boer
URL:https://voltnederland.org/groningen/agenda/ontmoet-volt-17-maa-26-ten-b
 oer
END:VEVENT
END:VCALENDAR
