BEGIN:VCALENDAR
VERSION:2.0
PRODID:-//Volt Europa//Events//EN
CALSCALE:GREGORIAN
METHOD:PUBLISH
BEGIN:VEVENT
UID:ontmoet-volt-14-maa-26-1773486000@voltnederland.org
DTSTAMP:20260423T211059Z
DTSTART;TZID=Europe/Amsterdam:20260314T120000
DTEND;TZID=Europe/Amsterdam:20260314T150000
SUMMARY:Ontmoet Volt: 14 maart
DESCRIPTION:18 maart doet Volt mee aan de verkiezingen in Groningen.  Deze 
 middag staan we in de binnenstad. Kom onderweg naar werk\, naar je studie\,
  of naar de stad even kletsen\, stel je vraag. En vind je het nou heel geze
 llig\, help ons dan om om de campagne nog vrolijker te maken door mee te he
 lpen!
LOCATION:Binnenstad\, Groningen
URL:https://voltnederland.org/groningen/agenda/ontmoet-volt-14-maa-26
END:VEVENT
END:VCALENDAR
