BEGIN:VCALENDAR
VERSION:2.0
PRODID:-//Volt Europa//Events//EN
CALSCALE:GREGORIAN
METHOD:PUBLISH
BEGIN:VEVENT
UID:ontmoet-volt-13-maa-26-1773406800@voltnederland.org
DTSTAMP:20260424T030329Z
DTSTART;TZID=Europe/Amsterdam:20260313T140000
DTEND;TZID=Europe/Amsterdam:20260313T163000
SUMMARY:Ontmoet Volt: 13 maart
DESCRIPTION:18 maart doet Volt mee aan de verkiezingen in Groningen.  Deze 
 middag staan we op de markt in Haren. Kom onderweg naar werk\, naar je stud
 ie\, of naar de stad even kletsen\, stel je vraag. En vind je het nou heel 
 gezellig\, help ons dan om om de campagne nog vrolijker te maken door mee t
 e helpen!
LOCATION:Markt\, Haren
URL:https://voltnederland.org/groningen/agenda/ontmoet-volt-13-maa-26
END:VEVENT
END:VCALENDAR
