BEGIN:VCALENDAR
VERSION:2.0
PRODID:-//Volt Europa//Events//EN
CALSCALE:GREGORIAN
METHOD:PUBLISH
BEGIN:VEVENT
UID:ontmoet-volt-12-maa-26-heymans-1773301200@voltnederland.org
DTSTAMP:20260423T173944Z
DTSTART;TZID=Europe/Amsterdam:20260312T084000
DTEND;TZID=Europe/Amsterdam:20260312T110000
SUMMARY:Ontmoet Volt: 12 maart
DESCRIPTION:18 maart doet Volt mee aan de verkiezingen in Groningen.  Deze 
 ochtend staan we het Heymansgebouw. Kom even kletsen en stel je vraag. En v
 ind je het nou heel gezellig\, help ons dan om om de campagne nog vrolijker
  te maken door mee te helpen!
LOCATION:Heymansgebouw
URL:https://voltnederland.org/groningen/agenda/ontmoet-volt-12-maa-26-heyma
 ns
END:VEVENT
END:VCALENDAR
