BEGIN:VCALENDAR
VERSION:2.0
PRODID:-//Volt Europa//Events//EN
CALSCALE:GREGORIAN
METHOD:PUBLISH
BEGIN:VEVENT
UID:onderzoeksgroep-bijeenkomst-1776178800@voltnederland.org
DTSTAMP:20260422T021950Z
DTSTART;TZID=Europe/Amsterdam:20260414T170000
DTEND;TZID=Europe/Amsterdam:20260414T200000
SUMMARY:Volt Groningen bijeenkomst  Onderzoeksgroep
DESCRIPTION:De onderzoeksgroep is nu officieel in de opbouwfase\, en we zoe
 ken jouw hulp hierbij! Deze groep is de opvolger van het beleidsteam\, en w
 e hopen dan ook erg dat voormalige deelnemers aan het beleidsteam in deze n
 ieuwe groep zullen deelnemen.  De onderzoeksgroep draagt verantwoordelijkh
 eid voor het ontwikkelen van de kennis die leden\, bestuur en fracties in G
 roningen nodig hebben bij het maken van sterk onderbouwde keuzes. Deze groe
 p zal zich dus hoofdzakelijk concentreren op onderzoek\, en niet op
LOCATION:Fractiehuis provincie Groningen\, Turfsingel 83\, Groningen
URL:https://voltnederland.org/groningen/agenda/onderzoeksgroep-bijeenkomst
END:VEVENT
END:VCALENDAR
