BEGIN:VCALENDAR
VERSION:2.0
PRODID:-//Volt Europa//Events//EN
CALSCALE:GREGORIAN
METHOD:PUBLISH
BEGIN:VEVENT
UID:noord-nederland-meets-europa-1713452400@voltnederland.org
DTSTAMP:20260423T114225Z
DTSTART;TZID=Europe/Amsterdam:20240418T170000
DTEND;TZID=Europe/Amsterdam:20240418T203000
SUMMARY:Noord-Nederland Meets Europa!
DESCRIPTION:"Save the Date - Noord-Nederland Meets Europa! De Europese verk
 iezingen komen er snel aan en deze zullen ook voor Noord-Nederland van groo
 t belang zijn! Veel Europese thema's\, zoals veiligheid\, klimaat\, energie
  en migratie spelen zich juist in Noord-Nederland continu uit. Daarom organ
 iseren Volt Groningen\, Drenthe\, en Friesland een gezellige avond om het m
 et elkaar over deze thema's en de verkiezingen te hebben! Gezamenlijk gaan 
 we in gesprek met Reinier van Lanschot en Anouk Ooms over hun visie
LOCATION:Groningen
URL:https://voltnederland.org/agenda/noord-nederland-meets-europa
END:VEVENT
END:VCALENDAR
