BEGIN:VCALENDAR
VERSION:2.0
PRODID:-//Volt Europa//Events//EN
CALSCALE:GREGORIAN
METHOD:PUBLISH
BEGIN:VEVENT
UID:nl-de-open-borders-actie-1752926400@voltnederland.org
DTSTAMP:20260423T142326Z
DTSTART;TZID=Europe/Amsterdam:20250719T140000
DTEND;TZID=Europe/Amsterdam:20250719T160000
SUMMARY:NL-DE Open borders actie
DESCRIPTION:(English below) Europa voor  Open Grenzen Kom op 19 juli naar B
 ad Nieuweschans om mee te doen met de Europese Open Borders actie! Op 12 pl
 aatsen langs Europese grenzen wordt een actie gehouden en wij organiseren m
 et Volt afdelingen in Nedersaksen de bijeenkomst in Bad Nieuweschans. 19 ju
 li om 14:00 verzamelen bij de parkeerplaats van de supermarkt in Bad Nieuwe
 schans. Daarna: Uitdelen van flyers\, kaas en spretzels in het centrum Nabi
 j de grens content voor de socials maken (verplaatsen naar de N
LOCATION:Bad Nieuweschans\, Hoofdstraat 41\, 9693 AE
URL:https://voltnederland.org/groningen/agenda/nl-de-open-borders-actie
END:VEVENT
END:VCALENDAR
