BEGIN:VCALENDAR
VERSION:2.0
PRODID:-//Volt Europa//Events//EN
CALSCALE:GREGORIAN
METHOD:PUBLISH
BEGIN:VEVENT
UID:monthly-meeting-1733077800@voltnederland.org
DTSTAMP:20260424T200119Z
DTSTART;TZID=Europe/Amsterdam:20241201T193000
DTEND;TZID=Europe/Amsterdam:20241201T220000
SUMMARY:Monthly Meeting
DESCRIPTION:Onze eerste Monthly Meeting als  officiële Afdeling van Volt N
 ederland  komt in december. Zo vlak na het  congres  slaan we die van novem
 ber over. Programma Naast de updates van Volt Europa\, Volt Nederland en Vo
 lt Groningen verwachten we gebruikelijk tafelsessies. Houd hier in de gaten
  wat de organisatie er voor in petto heeft. Kom langs! Je hoeft geen Volt-l
 id te zijn\, als je maar de  Volt-waarden  uitdraagt. En ken je nog niemand
 ? Mail ons dan even\, dan koppelen we je aan een leuke buddy om sa
LOCATION:Munnekeholm 4\, Groningen
URL:https://voltnederland.org/groningen/agenda/monthly-meeting
END:VEVENT
END:VCALENDAR
