BEGIN:VCALENDAR
VERSION:2.0
PRODID:-//Volt Europa//Events//EN
CALSCALE:GREGORIAN
METHOD:PUBLISH
BEGIN:VEVENT
UID:monthly-meeting-september-2025-1757266200@voltnederland.org
DTSTAMP:20260423T113947Z
DTSTART;TZID=Europe/Amsterdam:20250907T193000
DTEND;TZID=Europe/Amsterdam:20250907T220000
SUMMARY:Monthly Meeting september 2025
DESCRIPTION:De negende Monthly Meeting van het jaar! Monthly Meetings zijn 
 vooral heel gezellig\, daarnaast is het de plek om op de hoogte te blijven 
 van Volt Europa\, Nederland en Groningen. Naast de update krijg je ook te h
 oren welke vacatures en events er aankomen. Ook zijn er vaak een leuke spre
 ker\, of ga je zelf hands-on aan de slag met een vraagstuk van de porvincia
 le staten\, meedenken over thema's of het ontwikkelen van soft-skills. En d
 at allemaal in 2 uurtjes\, onder het genot van een drankje. Ben jij
LOCATION:Munnekeholm 4\, Groningen
URL:https://voltnederland.org/groningen/agenda/monthly-meeting-september-20
 25
END:VEVENT
END:VCALENDAR
