BEGIN:VCALENDAR
VERSION:2.0
PRODID:-//Volt Europa//Events//EN
CALSCALE:GREGORIAN
METHOD:PUBLISH
BEGIN:VEVENT
UID:monthly-meeting-oktober-2025-1759685400@voltnederland.org
DTSTAMP:20260423T114226Z
DTSTART;TZID=Europe/Amsterdam:20251005T193000
DTEND;TZID=Europe/Amsterdam:20251005T220000
SUMMARY:Monthly Meeting oktober 2025
DESCRIPTION:De tiende Monthly Meeting van het jaar! Monthly Meetings zijn v
 ooral heel gezellig\, daarnaast is het de plek om op de hoogte te blijven v
 an Volt Europa\, Nederland en Groningen. Naast de update krijg je ook te ho
 ren welke vacatures en events er aankomen. Ook zijn er vaak een leuke sprek
 er\, of ga je zelf hands-on aan de slag met een vraagstuk van de porvincial
 e staten\, meedenken over thema's of het ontwikkelen van soft-skills. En da
 t allemaal in 2 uurtjes\, onder het genot van een drankje. Ben jij 
LOCATION:Munnekeholm 4\, Groningen
URL:https://voltnederland.org/groningen/agenda/monthly-meeting-oktober-2025
END:VEVENT
END:VCALENDAR
