BEGIN:VCALENDAR
VERSION:2.0
PRODID:-//Volt Europa//Events//EN
CALSCALE:GREGORIAN
METHOD:PUBLISH
BEGIN:VEVENT
UID:monthly-meeting-feb-2026-1769967000@voltnederland.org
DTSTAMP:20260423T174158Z
DTSTART;TZID=Europe/Amsterdam:20260201T183000
DTEND;TZID=Europe/Amsterdam:20260201T210000
SUMMARY:Monthly Meeting - feb 2026
DESCRIPTION:đ Draghi-rapport onder de loep! Wat betekent het voor Europa
  ÃŠn Groningen? Tijdens de monthly meeting van zondag 1 februari duiken we 
 er samen in tijdens deze interactieve sessie. Vanuit het Volt Groningen Eur
 opa Team nemen wij je mee in dit rapport en gaan we samen de lokale visie v
 anuit de GRV koppelen aan Europese plannen. Want wat hier speelt\, telt daa
 r ook. Doe mee! đŦ  Inloop: 18:30 Starttijd: 19:00  Eindtijd: 21:00  | đ
  [Clubhuis voor Doven\, Munnekenholm 4\, Groningen] |  Tot dan! Volt Gron
LOCATION:Munnekeholm 4\, Groningen
URL:https://voltnederland.org/groningen/agenda/monthly-meeting-feb-2026
END:VEVENT
END:VCALENDAR
