BEGIN:VCALENDAR
VERSION:2.0
PRODID:-//Volt Europa//Events//EN
CALSCALE:GREGORIAN
METHOD:PUBLISH
BEGIN:VEVENT
UID:monthly-meeting-april-2026-1775322000@voltnederland.org
DTSTAMP:20260422T022141Z
DTSTART;TZID=Europe/Amsterdam:20260404T190000
DTEND;TZID=Europe/Amsterdam:20260404T220000
SUMMARY:Monthly Meeting April 2026
DESCRIPTION:We hebben weer een interessante sessie op de planning staan. We
  beginnen met de updates en daarna neemt John Kuin ons mee in de tijdlijn r
 ichting de Provinciale Staten en geeft daarbij wat meer context over wat we
  de komende periode kunnen verwachten.  In verband met Pasen willen we wel
  graag de Monthly Meeting door laten gaan maar hebben we er voor gekozen om
  deze online te houden! Op deze manier heeft iedereen zondag de kans om op 
 de hoogte gesteld te worden met betrekking tot de plannen voor 
LOCATION:Online
URL:https://voltnederland.org/groningen/agenda/monthly-meeting-april-2026
END:VEVENT
END:VCALENDAR
